BEGIN:VCALENDAR
VERSION:2.0
PRODID:SchoolNow
CALSCALE:GREGORIAN
BEGIN:VEVENT
UID:64f4bf9e-dac6-11f0-b666-0e5a7d774447
DTSTAMP:20251217T094009Z
SUMMARY:Spring Dance Concert
URL;VALUE=URI:https://www.ndsj.org/visual-and-performing-arts/calendar/8825
 128/spring-dance-concert
DTSTART:20260509T180000Z
DTEND:20260509T193000Z
END:VEVENT
END:VCALENDAR
