BEGIN:VCALENDAR
VERSION:2.0
PRODID:SchoolNow
CALSCALE:GREGORIAN
BEGIN:VEVENT
UID:a0db865e-d6cb-11f0-9b5b-0affeb02a7bf
DTSTAMP:20251217T094009Z
SUMMARY:Pops Concert - Senior Recognition
LOCATION:Julie Billart Hall
URL;VALUE=URI:https://www.ndsj.org/visual-and-performing-arts/calendar/8822
 183/pops-concert-senior-recognition
DTSTART:20260510T020000Z
DTEND:20260510T043000Z
END:VEVENT
END:VCALENDAR
