BEGIN:VCALENDAR
VERSION:2.0
PRODID:SchoolNow
CALSCALE:GREGORIAN
BEGIN:VEVENT
UID:e25d75ee-d6c9-11f0-9ddc-0a58a9feac02
DTSTAMP:20251217T094009Z
SUMMARY:Drama Class Spring Showcase
LOCATION:JB Hall
URL;VALUE=URI:https://www.ndsj.org/visual-and-performing-arts/calendar/8822
 179/drama-class-spring-showcase
DTSTART:20260506T020000Z
DTEND:20260506T030000Z
END:VEVENT
END:VCALENDAR
