BEGIN:VCALENDAR
VERSION:2.0
PRODID:SchoolNow
CALSCALE:GREGORIAN
BEGIN:VEVENT
UID:e25d7328-d6c9-11f0-91f9-0a58a9feac02
DTSTAMP:20251217T094009Z
SUMMARY:Thespian Induction/Senior Showcase
URL;VALUE=URI:https://www.ndsj.org/visual-and-performing-arts/calendar/8822
 176/thespian-induction-senior-showcase
DTSTART:20260502T020000Z
DTEND:20260502T040000Z
END:VEVENT
END:VCALENDAR
