BEGIN:VCALENDAR
VERSION:2.0
PRODID:SchoolNow
CALSCALE:GREGORIAN
BEGIN:VEVENT
UID:e25d7224-d6c9-11f0-9ccf-0a58a9feac02
DTSTAMP:20251217T094009Z
SUMMARY:SCU High School Choral Festival
LOCATION:Santa Clara University\, 500 El Camino Real\, Santa Clara\, CA 950
 53\, USA
URL;VALUE=URI:https://www.ndsj.org/visual-and-performing-arts/calendar/8822
 175/scu-high-school-choral-festival
DTSTART:20260124T220000Z
DTEND:20260125T053000Z
END:VEVENT
END:VCALENDAR
