BEGIN:VCALENDAR
VERSION:2.0
PRODID:SchoolNow
CALSCALE:GREGORIAN
BEGIN:VEVENT
UID:e25d7120-d6c9-11f0-8efa-0a58a9feac02
DTSTAMP:20251217T094009Z
SUMMARY:Spring Concert
LOCATION:Our Lady of La Vang Parish San José\, 389 E Santa Clara St\, San 
 Jose\, CA 95113\, USA
URL;VALUE=URI:https://www.ndsj.org/visual-and-performing-arts/calendar/8822
 174/spring-concert
DTSTART:20260329T023000Z
DTEND:20260329T043000Z
END:VEVENT
END:VCALENDAR
