BEGIN:VCALENDAR
VERSION:2.0
PRODID:SchoolNow
CALSCALE:GREGORIAN
BEGIN:VEVENT
UID:e25d6fe0-d6c9-11f0-9bba-0a58a9feac02
DTSTAMP:20251217T094009Z
SUMMARY:Diversity Showcase & Night Market
LOCATION:Julie Billiart Hall and Learning Commons
URL;VALUE=URI:https://www.ndsj.org/visual-and-performing-arts/calendar/8822
 173/diversity-showcase-night-market
DTSTART:20260124T004500Z
DTEND:20260124T050000Z
END:VEVENT
END:VCALENDAR
