BEGIN:VCALENDAR
VERSION:2.0
PRODID:SchoolNow
CALSCALE:GREGORIAN
BEGIN:VEVENT
UID:e25d67ca-d6c9-11f0-9f56-0a58a9feac02
DTSTAMP:20251217T094009Z
SUMMARY:Spring Dance Concert
URL;VALUE=URI:https://www.ndsj.org/visual-and-performing-arts/calendar/8822
 171/spring-dance-concert
DTSTART:20260509T020000Z
DTEND:20260509T033000Z
END:VEVENT
END:VCALENDAR
