BEGIN:VCALENDAR
VERSION:2.0
PRODID:SchoolNow
CALSCALE:GREGORIAN
BEGIN:VEVENT
UID:e9853ca0-d6c2-11f0-8caa-0a58a9feac02
DTSTAMP:20251217T094009Z
SUMMARY:SIX: Teen Edition
LOCATION:JB Hall
URL;VALUE=URI:https://www.ndsj.org/visual-and-performing-arts/calendar/8822
 167/six-teen-edition
DTSTART:20260111T030000Z
DTEND:20260111T040000Z
END:VEVENT
END:VCALENDAR
