BEGIN:VCALENDAR
VERSION:2.0
PRODID:SchoolNow
CALSCALE:GREGORIAN
BEGIN:VEVENT
UID:e9853b56-d6c2-11f0-8a73-0a58a9feac02
DTSTAMP:20251217T094009Z
SUMMARY:Winter Concert
LOCATION:Cathedral Basilica of St. Joseph\, 80 S Market St\, San Jose\, CA 
 95113\, USA
URL;VALUE=URI:https://www.ndsj.org/visual-and-performing-arts/calendar/8822
 166/winter-concert
DTSTART:20251214T030000Z
DTEND:20251214T050000Z
END:VEVENT
END:VCALENDAR
