BEGIN:VCALENDAR
VERSION:2.0
PRODID:SchoolNow
CALSCALE:GREGORIAN
BEGIN:VEVENT
UID:e9853746-d6c2-11f0-a0ff-0a58a9feac02
DTSTAMP:20251217T094009Z
SUMMARY:Winter Showcase/Thespian show
LOCATION:Julie Billiart Hall
URL;VALUE=URI:https://www.ndsj.org/visual-and-performing-arts/calendar/8822
 165/winter-showcase-thespian-show
DTSTART:20260110T020000Z
DTEND:20260110T040000Z
END:VEVENT
END:VCALENDAR
