BEGIN:VCALENDAR
VERSION:2.0
PRODID:SchoolNow
CALSCALE:GREGORIAN
BEGIN:VEVENT
UID:6352c860-3373-11f1-9d4d-0a58a9feac02
DTSTAMP:20260420T093510Z
SUMMARY:Softball vs. Lincoln
LOCATION:PAL Stadium\, 680 S 34th St\, San Jose\, CA 95116\, USA
URL;VALUE=URI:https://www.ndsj.org/student-life/calendar/8979905/softball-v
 s-lincoln
DTSTART:20260414T230000Z
DTEND:20260415T003000Z
END:VEVENT
END:VCALENDAR
