BEGIN:VCALENDAR
VERSION:2.0
PRODID:SchoolNow
CALSCALE:GREGORIAN
BEGIN:VEVENT
UID:340d241e-2c58-11f1-b701-0a58a9feac02
DTSTAMP:20260420T093510Z
SUMMARY:Beach Volleyball vs. Design Tech
LOCATION:Valley Church Sand Courts\, 10885 N Stelling Rd\, Cupertino\, CA 9
 5014\, USA
URL;VALUE=URI:https://www.ndsj.org/student-life/calendar/8957883/beach-voll
 eyball-vs-design-tech
DTSTART:20260414T233000Z
DTEND:20260415T013000Z
END:VEVENT
END:VCALENDAR
