BEGIN:VCALENDAR
VERSION:2.0
PRODID:SchoolNow
CALSCALE:GREGORIAN
BEGIN:VEVENT
UID:33c1b66e-2c58-11f1-af5e-0a58a9feac02
DTSTAMP:20260420T093510Z
SUMMARY:Lacrosse @ Lincoln
LOCATION:Abraham Lincoln High School\, 555 Dana Ave\, San Jose\, CA 95126\,
  USA
URL;VALUE=URI:https://www.ndsj.org/student-life/calendar/8957882/lacrosse-l
 incoln
DTSTART:20260428T010000Z
DTEND:20260428T023000Z
END:VEVENT
END:VCALENDAR
