BEGIN:VCALENDAR
VERSION:2.0
PRODID:SchoolNow
CALSCALE:GREGORIAN
BEGIN:VEVENT
UID:33c1ac28-2c58-11f1-b15d-0a58a9feac02
DTSTAMP:20260420T093510Z
SUMMARY:WBAL Track & Field Prelims SENIOR NIGHT!
LOCATION:The King's Academy\, 562 N Britton Ave\, Sunnyvale\, CA 94085\, US
 A
URL;VALUE=URI:https://www.ndsj.org/student-life/calendar/8957881/wbal-track
 -field-prelims-senior-night
DTSTART:20260505T223000Z
DTEND:20260506T013000Z
END:VEVENT
END:VCALENDAR
