BEGIN:VCALENDAR
VERSION:2.0
PRODID:SchoolNow
CALSCALE:GREGORIAN
BEGIN:VEVENT
UID:7aa0d446-2953-11f1-a95f-0affcf835eb5
DTSTAMP:20260420T093510Z
SUMMARY:Beach Volleyball vs. Priory
LOCATION:Valley Church Sand Courts\, 10885 N Stelling Rd\, Cupertino\, CA 9
 5014\, USA
URL;VALUE=URI:https://www.ndsj.org/student-life/calendar/8947953/beach-voll
 eyball-vs-priory
DTSTART:20260423T230000Z
DTEND:20260424T010000Z
END:VEVENT
END:VCALENDAR
