BEGIN:VCALENDAR
VERSION:2.0
PRODID:SchoolNow
CALSCALE:GREGORIAN
BEGIN:VEVENT
UID:d4ed3b48-27cc-11f1-acd3-0e13fa533e69
DTSTAMP:20260420T093510Z
SUMMARY:WBAL Track & Field Finals
LOCATION:The King's Academy\, 562 N Britton Ave\, Sunnyvale\, CA 94085\, US
 A
URL;VALUE=URI:https://www.ndsj.org/student-life/calendar/8943049/wbal-track
 -field-finals
DTSTART:20260509T000000Z
DTEND:20260509T033000Z
END:VEVENT
END:VCALENDAR
