BEGIN:VCALENDAR
VERSION:2.0
PRODID:SchoolNow
CALSCALE:GREGORIAN
BEGIN:VEVENT
UID:d4ad687e-27cc-11f1-93a5-0e13fa533e69
DTSTAMP:20260420T093510Z
SUMMARY:Beach Volleyball vs. Castilleja
LOCATION:Valley Church Sand Courts\, 10885 N Stelling Rd\, Cupertino\, CA 9
 5014\, USA
URL;VALUE=URI:https://www.ndsj.org/student-life/calendar/8943048/beach-voll
 eyball-vs-castilleja
DTSTART:20260421T233000Z
DTEND:20260422T013000Z
END:VEVENT
END:VCALENDAR
