BEGIN:VCALENDAR
VERSION:2.0
PRODID:SchoolNow
CALSCALE:GREGORIAN
BEGIN:VEVENT
UID:cc57277e-226c-11f1-8dc5-0a58a9feac02
DTSTAMP:20260420T093510Z
SUMMARY:Beach Volleyball vs. Notre Dame Belmont (Senior Night)
LOCATION:Valley Church Sand Courts\, 10885 N Stelling Rd\, Cupertino\, CA 9
 5014\, USA
URL;VALUE=URI:https://www.ndsj.org/student-life/calendar/8926371/beach-voll
 eyball-vs-notre-dame-belmont-senior-night
DTSTART:20260428T230000Z
DTEND:20260429T010000Z
END:VEVENT
END:VCALENDAR
