BEGIN:VCALENDAR
VERSION:2.0
PRODID:SchoolNow
CALSCALE:GREGORIAN
BEGIN:VEVENT
UID:695df980-1e3f-11f1-a4b1-0a58a9feac02
DTSTAMP:20260420T093510Z
SUMMARY:Community Programming- Senior Rec Practice & College Sweatshirt Pic
 .
URL;VALUE=URI:https://www.ndsj.org/student-life/calendar/8912975/community-
 programming-senior-rec-practice-college-sweatshirt-pic
DTSTART:20260521T163000Z
DTEND:20260521T180000Z
END:VEVENT
END:VCALENDAR
