BEGIN:VCALENDAR
VERSION:2.0
PRODID:SchoolNow
CALSCALE:GREGORIAN
BEGIN:VEVENT
UID:721a77be-1684-11f1-a59f-029689831a4f
DTSTAMP:20260420T093510Z
SUMMARY:Prospect Deep Dive Plunge Invitational
LOCATION:Prospect High School\, 18900 Prospect Rd\, Saratoga\, CA 95070\, U
 SA
URL;VALUE=URI:https://www.ndsj.org/student-life/calendar/8885108/prospect-d
 eep-dive-plunge-invitational
DTSTART;VALUE=DATE:20260328
DTEND;VALUE=DATE:20260329
END:VEVENT
END:VCALENDAR
