BEGIN:VCALENDAR
VERSION:2.0
PRODID:SchoolNow
CALSCALE:GREGORIAN
BEGIN:VEVENT
UID:721a6e68-1684-11f1-907c-029689831a4f
DTSTAMP:20260420T093510Z
SUMMARY:Vikings Diving Invitational
LOCATION:Lynbrook High School\, 1280 Johnson Ave\, San Jose\, CA 95129\, US
 A
URL;VALUE=URI:https://www.ndsj.org/student-life/calendar/8885107/vikings-di
 ving-invitational
DTSTART:20260404T150000Z
DTEND:20260404T190000Z
END:VEVENT
END:VCALENDAR
