BEGIN:VCALENDAR
VERSION:2.0
PRODID:SchoolNow
CALSCALE:GREGORIAN
BEGIN:VEVENT
UID:f62fcb6a-1415-11f1-8769-0a58a9feac02
DTSTAMP:20260420T093510Z
SUMMARY:Softball @ The King's Academy
LOCATION:The King's Academy\, 562 N Britton Ave\, Sunnyvale\, CA 94085\, US
 A
URL;VALUE=URI:https://www.ndsj.org/student-life/calendar/8876519/softball-t
 he-kings-academy
DTSTART:20260305T000000Z
DTEND:20260305T013000Z
END:VEVENT
END:VCALENDAR
