BEGIN:VCALENDAR
VERSION:2.0
PRODID:SchoolNow
CALSCALE:GREGORIAN
BEGIN:VEVENT
UID:f62fc692-1415-11f1-8a5a-0a58a9feac02
DTSTAMP:20260420T093510Z
SUMMARY:Softball vs. Leland (Charlie Miguel Tournament)
LOCATION:PAL Stadium\, 680 S 34th St\, San Jose\, CA 95116\, USA
URL;VALUE=URI:https://www.ndsj.org/student-life/calendar/8876518/softball-v
 s-leland-charlie-miguel-tournament
DTSTART:20260304T003000Z
DTEND:20260304T020000Z
END:VEVENT
END:VCALENDAR
