BEGIN:VCALENDAR
VERSION:2.0
PRODID:SchoolNow
CALSCALE:GREGORIAN
BEGIN:VEVENT
UID:f5fa02b4-1415-11f1-bbcd-0a58a9feac02
DTSTAMP:20260420T093510Z
SUMMARY:Softball vs. Pioneer (Charlie Miguel Tournament)
LOCATION:PAL Stadium\, 680 S 34th St\, San Jose\, CA 95116\, USA
URL;VALUE=URI:https://www.ndsj.org/student-life/calendar/8876517/softball-v
 s-pioneer-charlie-miguel-tournament
DTSTART:20260307T183000Z
DTEND:20260307T200000Z
END:VEVENT
END:VCALENDAR
