BEGIN:VCALENDAR
VERSION:2.0
PRODID:SchoolNow
CALSCALE:GREGORIAN
BEGIN:VEVENT
UID:f5fa0138-1415-11f1-b9b5-0a58a9feac02
DTSTAMP:20260420T093510Z
SUMMARY:Softball vs. Oak Grove (Pioneer High School)
LOCATION:Pioneer High School\, 1290 Blossom Hill Rd\, San Jose\, CA 95118\,
  USA
URL;VALUE=URI:https://www.ndsj.org/student-life/calendar/8876516/softball-v
 s-oak-grove-pioneer-high-school
DTSTART:20260306T233000Z
DTEND:20260307T010000Z
END:VEVENT
END:VCALENDAR
