BEGIN:VCALENDAR
VERSION:2.0
PRODID:SchoolNow
CALSCALE:GREGORIAN
BEGIN:VEVENT
UID:08e91dfe-1413-11f1-b70b-0afff1e618db
DTSTAMP:20260420T093510Z
SUMMARY:LAX vs. Mercy Burlingame SENIOR NIGHT! (Presentation High School)
LOCATION:Presentation High School\, 2281 Plummer Ave\, San Jose\, CA 95125\
 , USA
URL;VALUE=URI:https://www.ndsj.org/student-life/calendar/8876510/lax-vs-mer
 cy-burlingame-senior-night-presentation-high-school
DTSTART:20260425T001500Z
DTEND:20260425T014500Z
END:VEVENT
END:VCALENDAR
