BEGIN:VCALENDAR
VERSION:2.0
PRODID:SchoolNow
CALSCALE:GREGORIAN
BEGIN:VEVENT
UID:3281a344-1412-11f1-8556-0ea0cad8ddbf
DTSTAMP:20260420T093510Z
SUMMARY:Softball vs. Live Oak
LOCATION:PAL Stadium\, 680 S 34th St\, San Jose\, CA 95116\, USA
URL;VALUE=URI:https://www.ndsj.org/student-life/calendar/8876508/softball-v
 s-live-oak
DTSTART:20260312T223000Z
DTEND:20260313T000000Z
END:VEVENT
END:VCALENDAR
