BEGIN:VCALENDAR
VERSION:2.0
PRODID:SchoolNow
CALSCALE:GREGORIAN
BEGIN:VEVENT
UID:3c11cdd2-1352-11f1-b5f6-0a58a9feac02
DTSTAMP:20260420T093510Z
SUMMARY:Basketball CIF CCS Semifinals @ Mills
LOCATION:Mills High School\, 400 Murchison Dr\, Millbrae\, CA 94030\, USA
URL;VALUE=URI:https://www.ndsj.org/student-life/calendar/8873566/basketball
 -cif-ccs-semifinals-mills
DTSTART:20260227T030000Z
DTEND:20260227T043000Z
END:VEVENT
END:VCALENDAR
