BEGIN:VCALENDAR
VERSION:2.0
PRODID:SchoolNow
CALSCALE:GREGORIAN
BEGIN:VEVENT
UID:75f200f8-0e0c-11f1-ae22-0affc971ad7d
DTSTAMP:20260420T093510Z
SUMMARY:Beach Volleyball
LOCATION:Meeting Space-JB Hall- GYM (does not include STAGE or AV support) 
 (700)
URL;VALUE=URI:https://www.ndsj.org/student-life/calendar/8861549/beach-voll
 eyball
DTSTART:20260219T230000Z
DTEND:20260220T010000Z
END:VEVENT
END:VCALENDAR
