BEGIN:VCALENDAR
VERSION:2.0
PRODID:SchoolNow
CALSCALE:GREGORIAN
BEGIN:VEVENT
UID:7d8ac26c-0d73-11f1-86ec-0a58a9feac02
DTSTAMP:20260420T093510Z
SUMMARY:Basketball CIF CCS Quarterfinals vs Aptos
LOCATION:Meeting Space-JB Hall- GYM (does not include STAGE or AV support) 
 (700)
URL;VALUE=URI:https://www.ndsj.org/student-life/calendar/8860264/basketball
 -cif-ccs-quarterfinals-vs-aptos
DTSTART:20260225T030000Z
DTEND:20260225T050000Z
END:VEVENT
END:VCALENDAR
