BEGIN:VCALENDAR
VERSION:2.0
PRODID:SchoolNow
CALSCALE:GREGORIAN
BEGIN:VEVENT
UID:8a11e866-0ca7-11f1-a9f4-02199073289b
DTSTAMP:20260420T093510Z
SUMMARY:Beach Volleyball
LOCATION:Meeting Space-JB Hall- GYM (does not include STAGE or AV support) 
 (700)
URL;VALUE=URI:https://www.ndsj.org/student-life/calendar/8858796/beach-voll
 eyball
DTSTART:20260218T213000Z
DTEND:20260218T233000Z
END:VEVENT
END:VCALENDAR
