BEGIN:VCALENDAR
VERSION:2.0
PRODID:SchoolNow
CALSCALE:GREGORIAN
BEGIN:VEVENT
UID:935dea90-0bdb-11f1-be12-0a58a9feac02
DTSTAMP:20260420T093510Z
SUMMARY:Volleyball
LOCATION:Meeting Space-JB Hall- GYM (does not include STAGE or AV support) 
 (700)
URL;VALUE=URI:https://www.ndsj.org/student-life/calendar/8857572/volleyball
DTSTART:20260217T230000Z
DTEND:20260218T010000Z
END:VEVENT
END:VCALENDAR
