BEGIN:VCALENDAR
VERSION:2.0
PRODID:SchoolNow
CALSCALE:GREGORIAN
BEGIN:VEVENT
UID:ddc6095e-0614-11f1-b9b3-0e94813188a5
DTSTAMP:20260420T093510Z
SUMMARY:Softball @ 34th Annual Circle of Champions Tournament
LOCATION:Salinas Sports Complex\, 1034 N Main St\, Salinas\, CA 93906\, USA
URL;VALUE=URI:https://www.ndsj.org/student-life/calendar/8851975/softball-3
 4th-annual-circle-of-champions-tournament
DTSTART;VALUE=DATE:20260228
DTEND;VALUE=DATE:20260301
END:VEVENT
END:VCALENDAR
