BEGIN:VCALENDAR
VERSION:2.0
PRODID:SchoolNow
CALSCALE:GREGORIAN
BEGIN:VEVENT
UID:23795020-00b4-11f1-8d0d-027d2536e76b
DTSTAMP:20260420T093510Z
SUMMARY:Beach Volleyball @ Harbor
LOCATION:Harbor High School\, 300 La Fonda Ave\, Santa Cruz\, CA 95062\, US
 A
URL;VALUE=URI:https://www.ndsj.org/student-life/calendar/8848344/beach-voll
 eyball-harbor
DTSTART:20260401T223000Z
DTEND:20260402T003000Z
END:VEVENT
END:VCALENDAR
