BEGIN:VCALENDAR
VERSION:2.0
PRODID:SchoolNow
CALSCALE:GREGORIAN
BEGIN:VEVENT
UID:2373736c-00b4-11f1-9783-027d2536e76b
DTSTAMP:20260420T093510Z
SUMMARY:Beach Volleyball vs. Crystal
LOCATION:Valley Church Sand Courts\, 10885 N Stelling Rd\, Cupertino\, CA 9
 5014\, USA
URL;VALUE=URI:https://www.ndsj.org/student-life/calendar/8848342/beach-voll
 eyball-vs-crystal
DTSTART:20260312T230000Z
DTEND:20260313T003000Z
END:VEVENT
END:VCALENDAR
