BEGIN:VCALENDAR
VERSION:2.0
PRODID:SchoolNow
CALSCALE:GREGORIAN
BEGIN:VEVENT
UID:23736d72-00b4-11f1-8e0e-027d2536e76b
DTSTAMP:20260420T093510Z
SUMMARY:Softball @ Santa Teresa High School
LOCATION:Santa Teresa High School\, 6150 Snell Ave\, San Jose\, CA 95123\, 
 USA
URL;VALUE=URI:https://www.ndsj.org/student-life/calendar/8848341/softball-s
 anta-teresa-high-school
DTSTART:20260226T233000Z
DTEND:20260227T010000Z
END:VEVENT
END:VCALENDAR
