BEGIN:VCALENDAR
VERSION:2.0
PRODID:SchoolNow
CALSCALE:GREGORIAN
BEGIN:VEVENT
UID:23736962-00b4-11f1-b919-027d2536e76b
DTSTAMP:20260420T093510Z
SUMMARY:Frosh/soph Basketball vs. Sacred Heart Schools\, Atherton
LOCATION:Meeting Space-JB Hall- GYM (does not include STAGE or AV support) 
 (700)
URL;VALUE=URI:https://www.ndsj.org/student-life/calendar/8848340/frosh-soph
 -basketball-vs-sacred-heart-schools-atherton
DTSTART:20260212T000000Z
DTEND:20260212T010000Z
END:VEVENT
END:VCALENDAR
