BEGIN:VCALENDAR
VERSION:2.0
PRODID:SchoolNow
CALSCALE:GREGORIAN
BEGIN:VEVENT
UID:2335d8f4-00b4-11f1-90bd-027d2536e76b
DTSTAMP:20260420T093510Z
SUMMARY:Beach Volleyball @ Notre Dame Belmont
LOCATION:Notre Dame High School Belmont\, 1540 Ralston Ave\, Belmont\, CA 9
 4002\, USA
URL;VALUE=URI:https://www.ndsj.org/student-life/calendar/8848339/beach-voll
 eyball-notre-dame-belmont
DTSTART:20260224T233000Z
DTEND:20260225T010000Z
END:VEVENT
END:VCALENDAR
