BEGIN:VCALENDAR
VERSION:2.0
PRODID:SchoolNow
CALSCALE:GREGORIAN
BEGIN:VEVENT
UID:2335d674-00b4-11f1-91b8-027d2536e76b
DTSTAMP:20260420T093510Z
SUMMARY:Softball vs. Andrew Hill
LOCATION:PAL Stadium\, 680 S 34th St\, San Jose\, CA 95116\, USA
URL;VALUE=URI:https://www.ndsj.org/student-life/calendar/8848338/softball-v
 s-andrew-hill
DTSTART:20260309T230000Z
DTEND:20260310T010000Z
END:VEVENT
END:VCALENDAR
