BEGIN:VCALENDAR
VERSION:2.0
PRODID:SchoolNow
CALSCALE:GREGORIAN
BEGIN:VEVENT
UID:2335d264-00b4-11f1-a538-027d2536e76b
DTSTAMP:20260420T093510Z
SUMMARY:Softball vs. Wilcox
LOCATION:PAL Stadium\, 680 S 34th St\, San Jose\, CA 95116\, USA
URL;VALUE=URI:https://www.ndsj.org/student-life/calendar/8848337/softball-v
 s-wilcox
DTSTART:20260318T230000Z
DTEND:20260319T010000Z
END:VEVENT
END:VCALENDAR
