BEGIN:VCALENDAR
VERSION:2.0
PRODID:SchoolNow
CALSCALE:GREGORIAN
BEGIN:VEVENT
UID:b8c3faac-fb20-11f0-b471-0a58a9feac02
DTSTAMP:20260420T093510Z
SUMMARY:Swim WBAL Trials
LOCATION:Sacred Heart Schools\, Atherton\, 150 Valparaiso Ave\, Atherton\, 
 CA 94027\, USA
URL;VALUE=URI:https://www.ndsj.org/student-life/calendar/8844226/swim-wbal-
 trials
DTSTART:20260501T230000Z
DTEND:20260502T020000Z
END:VEVENT
END:VCALENDAR
