BEGIN:VCALENDAR
VERSION:2.0
PRODID:SchoolNow
CALSCALE:GREGORIAN
BEGIN:VEVENT
UID:b8bc0680-fb20-11f0-b555-0a58a9feac02
DTSTAMP:20260420T093510Z
SUMMARY:Swim @ Jamboree #2b
LOCATION:The Harker School - Upper School Campus\, 500 Saratoga Ave\, San J
 ose\, CA 95129\, USA
URL;VALUE=URI:https://www.ndsj.org/student-life/calendar/8844225/swim-jambo
 ree-2b
DTSTART:20260318T230000Z
DTEND:20260319T020000Z
END:VEVENT
END:VCALENDAR
