BEGIN:VCALENDAR
VERSION:2.0
PRODID:SchoolNow
CALSCALE:GREGORIAN
BEGIN:VEVENT
UID:b8bc0536-fb20-11f0-9137-0a58a9feac02
DTSTAMP:20260420T093510Z
SUMMARY:Top 8 Invitational
LOCATION:Los Gatos High School\, 20 High School Ct\, Los Gatos\, CA 95030\,
  USA
URL;VALUE=URI:https://www.ndsj.org/student-life/calendar/8844224/top-8-invi
 tational
DTSTART;VALUE=DATE:20260418
DTEND;VALUE=DATE:20260419
END:VEVENT
END:VCALENDAR
