BEGIN:VCALENDAR
VERSION:2.0
PRODID:SchoolNow
CALSCALE:GREGORIAN
BEGIN:VEVENT
UID:b8bc03ba-fb20-11f0-8b51-0a58a9feac02
DTSTAMP:20260420T093510Z
SUMMARY:Saint Francis Invitational
LOCATION:Saint Francis High School\, 1885 Miramonte Ave\, Mountain View\, C
 A 94040\, USA
URL;VALUE=URI:https://www.ndsj.org/student-life/calendar/8844223/saint-fran
 cis-invitational
DTSTART;VALUE=DATE:20260321
DTEND;VALUE=DATE:20260322
END:VEVENT
END:VCALENDAR
