BEGIN:VCALENDAR
VERSION:2.0
PRODID:SchoolNow
CALSCALE:GREGORIAN
BEGIN:VEVENT
UID:b8bbff0a-fb20-11f0-a544-0a58a9feac02
DTSTAMP:20260420T093510Z
SUMMARY:Swim Jamboree #7a
LOCATION:The Harker School - Upper School Campus\, 500 Saratoga Ave\, San J
 ose\, CA 95129\, USA
URL;VALUE=URI:https://www.ndsj.org/student-life/calendar/8844222/swim-jambo
 ree-7a
DTSTART:20260422T230000Z
DTEND:20260423T020000Z
END:VEVENT
END:VCALENDAR
