BEGIN:VCALENDAR
VERSION:2.0
PRODID:SchoolNow
CALSCALE:GREGORIAN
BEGIN:VEVENT
UID:b83c71c2-fb20-11f0-8b53-0a58a9feac02
DTSTAMP:20260420T093510Z
SUMMARY:Swim WBAL Finals
URL;VALUE=URI:https://www.ndsj.org/student-life/calendar/8844221/swim-wbal-
 finals
DTSTART:20260502T180000Z
DTEND:20260502T220000Z
END:VEVENT
END:VCALENDAR
