BEGIN:VCALENDAR
VERSION:2.0
PRODID:SchoolNow
CALSCALE:GREGORIAN
BEGIN:VEVENT
UID:b83c701e-fb20-11f0-8375-0a58a9feac02
DTSTAMP:20260420T093510Z
SUMMARY:John Owens Invitational
LOCATION:Willow Glen High School\, 2001 Cottle Ave\, San Jose\, CA 95125\, 
 USA
URL;VALUE=URI:https://www.ndsj.org/student-life/calendar/8844220/john-owens
 -invitational
DTSTART;VALUE=DATE:20260314
DTEND;VALUE=DATE:20260315
END:VEVENT
END:VCALENDAR
