BEGIN:VCALENDAR
VERSION:2.0
PRODID:SchoolNow
CALSCALE:GREGORIAN
BEGIN:VEVENT
UID:b83c6f2e-fb20-11f0-8068-0a58a9feac02
DTSTAMP:20260420T093510Z
SUMMARY:Swim @ Jamboree #3a
LOCATION:Sacred Heart Schools\, Atherton\, 150 Valparaiso Ave\, Atherton\, 
 CA 94027\, USA
URL;VALUE=URI:https://www.ndsj.org/student-life/calendar/8844219/swim-jambo
 ree-3a
DTSTART:20260324T230000Z
DTEND:20260325T020000Z
END:VEVENT
END:VCALENDAR
