BEGIN:VCALENDAR
VERSION:2.0
PRODID:SchoolNow
CALSCALE:GREGORIAN
BEGIN:VEVENT
UID:b83c6e2a-fb20-11f0-8c2f-0a58a9feac02
DTSTAMP:20260420T093510Z
SUMMARY:Skyline Invitational
LOCATION:Skyline High School\, 12250 Skyline Blvd\, Oakland\, CA 94619\, US
 A
URL;VALUE=URI:https://www.ndsj.org/student-life/calendar/8844218/skyline-in
 vitational
DTSTART;VALUE=DATE:20260228
DTEND;VALUE=DATE:20260301
END:VEVENT
END:VCALENDAR
